Workbook

Sheet 2018
A1: CALENDARIO RAGGRUPPAMENTI PRIMI CALCI 2° ANNO - 2018
A2: FASE AUTUNNALE - SS 2026/2027
A4: GIRONE UNICO
A6: ACADEMY CIVITANOVESE
A7: ADRIATICA PORTORECANATI
A8: CAMERINO CASTELRAIMONDO
A9: MACERATESE 1992
A10: RECANATESE
A11: SALESIANA VIGOR
A13: GIORNATA 1 del 11/10/2026
A14: RAGGRUPPAMENTO 1 | E14: RAGGRUPPAMENTO 2
A15: GIORNO | B15: DOMENICA 11 | C15: ORA | D15: 11.00 | E15: GIORNO | F15: DOMENICA 11 | G15: ORA | H15: 9.00
A16: CAMPO | B16: CIVITANOVA ALTA - MORNANO | E16: CAMPO | F16: CAMPO SPORTIVO GIRONELLA - VILLA POTENZA
A17: =A11 -> SALESIANA VIGOR | E17: =A8 -> CAMERINO CASTELRAIMONDO
A18: =A6 -> ACADEMY CIVITANOVESE | E18: =A7 -> ADRIATICA PORTORECANATI
A19: RECANATESE | E19: MACERATESE
A23: GIORNATA 2 del 18/10/2026
A24: RAGGRUPPAMENTO 1 | E24: RAGGRUPPAMENTO 2
A25: GIORNO | B25: DOMENICA 18 | C25: ORA | D25: 18.00 | E25: GIORNO | F25: DOMENICA 18 | G25: ORA | H25: 15.00
A26: CAMPO | B26: STADIO TUBALDI - RECANATI | E26: CAMPO | F26: SUPPLEMENTARE MONALDI -PORTO RECANATI
A27: =A8 -> CAMERINO CASTELRAIMONDO | E27: =A6 -> ACADEMY CIVITANOVESE
A28: =A9 -> MACERATESE 1992 | E28: =A7 -> ADRIATICA PORTORECANATI
A29: =A10 -> RECANATESE | E29: =A11 -> SALESIANA VIGOR
A33: GIORNATA 3 del 25/10/2026
A34: RAGGRUPPAMENTO 1 | E34: RAGGRUPPAMENTO 2
A35: GIORNO | B35: DOMENICA 25 | C35: ORA | D35: 9.00 | E35: GIORNO | F35: DOMENICA 25 | G35: ORA | H35: 15.00
A36: CAMPO | B36: CAMPO SPORTIVO GIRONELLA - VILLA POTENZA | E36: CAMPO | F36: COMUNALE LE CALVIE - CAMERINO
A37: ADRIATICA PORTORECANATI | E37: ACADEMY CIVITANOVESE
A38: =A9 -> MACERATESE 1992 | E38: =A8 -> CAMERINO CASTELRAIMONDO
A39: =A11 -> SALESIANA VIGOR | E39: =A10 -> RECANATESE
A43: GIORNATA 4 del 08/11/2026
A44: RAGGRUPPAMENTO 1 | E44: RAGGRUPPAMENTO 2
A45: GIORNO | B45: DOMENICA 8 | C45: ORA | D45: 11.00 | E45: GIORNO | F45: DOMENICA 8 | G45: ORA | H45: 15.00
A46: CAMPO | B46: CIVITANOVA ALTA - MORNANO | E46: CAMPO | F46: COMUNALE BONAPARTE - CIVITANOVA
A47: RECANATESE | E47: SALESIANA VIGOR
A48: =A6 -> ACADEMY CIVITANOVESE | E48: =A7 -> ADRIATICA PORTORECANATI
A49: MACERATESE 1922 | E49: =A8 -> CAMERINO CASTELRAIMONDO
A53: GIORNATA 5 del 15/11/2026
A54: RAGGRUPPAMENTO 1 | E54: RAGGRUPPAMENTO 2
A55: GIORNO | B55: SABATO 14 | C55: ORA | D55: 17.30 | E55: GIORNO | F55: DOMENICA 15 | G55: ORA | H55: 9.00
A56: CAMPO | B56: STADIO TUBALDI - RECANATI | E56: CAMPO | F56: CAMPO SPORTIVO GIRONELLA - VILLA POTENZA
A57: RECANATESE | E57: ADRIATICA PORTORECANATI
A58: =A8 -> CAMERINO CASTELRAIMONDO | E58: =A9 -> MACERATESE 1992
A59: =A6 -> ACADEMY CIVITANOVESE | E59: =A11 -> SALESIANA VIGOR
A63: GIORNATA 6 del 22/11/2026
A64: RAGGRUPPAMENTO 1 | E64: RAGGRUPPAMENTO 2
A65: GIORNO | B65: DOMENICA 22 | C65: ORA | D65: 10.00 | E65: GIORNO | F65: DOMENICA 22 | G65: ORA | H65: 11.00
A66: CAMPO | B66: CIVITANOVA ALTA - MORNANO | E66: CAMPO | F66: SUPPLEMENTARE MONALDI -PORTO RECANATI
A67: =A6 -> ACADEMY CIVITANOVESE | E67: =A7 -> ADRIATICA PORTORECANATI
A68: CAMERINO CASTELRAIMONDO | E68: MACERATESE 1922
A69: =A11 -> SALESIANA VIGOR | E69: =A10 -> RECANATESE
A73: GIORNATA 7 del 29/11/2026
A74: RAGGRUPPAMENTO 1 | E74: RAGGRUPPAMENTO 2
A75: GIORNO | B75: DOMENICA 29 | C75: ORA | D75: 17.30 | E75: GIORNO | F75: DOMENICA 29 | G75: ORA | H75: 15.00
A76: CAMPO | B76: STADIO TUBALDI - RECANATI | E76: CAMPO | F76: SUPPLEMENTARE MONALDI -PORTO RECANATI
A77: =A11 -> SALESIANA VIGOR | E77: =A6 -> ACADEMY CIVITANOVESE
A78: =A8 -> CAMERINO CASTELRAIMONDO | E78: =A7 -> ADRIATICA PORTORECANATI
A79: =A10 -> RECANATESE | E79: =A9 -> MACERATESE 1992
A83: GIORNATA 8 del 13/12/2026
A84: RAGGRUPPAMENTO 1 | E84: RAGGRUPPAMENTO 2
A85: GIORNO | B85: DOMENICA 13 | C85: ORA | D85: 9.00 | E85: GIORNO | F85: DOMENICA 13 | G85: ORA | H85: 10.00
A86: CAMPO | B86: CAMPO SPORTIVO GIRONELLA - VILLA POTENZA | E86: CAMPO | F86: CIVITANOVA ALTA - MORNANO
A87: =A7 -> ADRIATICA PORTORECANATI | E87: =A6 -> ACADEMY CIVITANOVESE
A88: =A10 -> RECANATESE | E88: =A8 -> CAMERINO CASTELRAIMONDO
A89: MACERATESE 1922 | E89: SALESIANA VIGOR
B92: AGGIORNAMENTI/CORREZIONI

Sheet MISTI MACRO A
A1: CALENDARIO RAGGRUPPAMENTI PRIMI CALCI MISTI - 2018/2019
A2: FASE AUTUNNALE - SS 2026/2027
A4: MACROAREA A
A6: ADRIATICA PORTORECANATI
A7: CALCIO CORRIDONIA
A8: CIVITANOVESE A
A9: CIVITANOVESE B
A10: MOGLIANESE
A11: MONTECOSARO
A12: SAN MARCO PETRIOLO
A13: POL. TRODICA
A14: PONTE SAN GIUSTO ACADEMY
... A23: GIORNATA 1 del 11/10/2026
A24: RAGGRUPPAMENTO 1 | E24: RAGGRUPPAMENTO 2 | I24: RAGGRUPPAMENTO 3 | M24: RAGGRUPPAMENTO 4
A25: GIORNO | B25: DOMENICA 11 | C25: ORA | D25: 15.00 | E25: GIORNO | F25: DOMENICA 11 | G25: ORA | H25: 15.00 | I25: GIORNO | J25: DOMENICA 11 | K25: ORA | L25: 10.30 | M25: GIORNO | N25: DOMENICA 11 | O25: ORA | P25: 10.30
A26: CAMPO | B26: DUE TORRI - SAN CLAUDIO | E26: CAMPO | F26: SAN LORENZO - MONTECOSARO ALTO | I26: CAMPO | J26: POLISPORTIVO - CIVITANOVA | M26: CAMPO | N26: COMUNALE BORGO PINTURA - MORROVALLE
A27: =A17 -> SANTA MARIA APPARENTE | E27: =A11 -> MONTECOSARO | I27: =A8 -> CIVITANOVESE A | M27: =A20 -> UNITED CIVITANOVA
A28: SAN CLAUDIO | E28: =A18 -> UNION PICENA | I28: =A15 -> SALESIANA VIGOR | M28: =A9 -> CIVITANOVESE B
A29: =A10 -> MOGLIANESE | E29: ADRIATICA PORTORECANATI | I29: =A16 -> SANGIUSTESE VP | M29: POL. TRODICA
E30: =A12 -> SAN MARCO PETRIOLO | I30: PONTE SAN GIUSTO ACADEMY | M30: =A7 -> CALCIO CORRIDONIA
A33: ='2018'!$A$23 -> GIORNATA 2 del 18/10/2026
A34: RAGGRUPPAMENTO 1 | E34: RAGGRUPPAMENTO 2 | I34: RAGGRUPPAMENTO 3 | M34: RAGGRUPPAMENTO 4
A35: GIORNO | B35: DOMENICA 18 | C35: ORA | D35: 15.00 | E35: GIORNO | F35: DOMENICA 18 | G35: ORA | H35: 10.00 | I35: GIORNO | J35: DOMENICA 18 | K35: ORA | L35: 11.00 | M35: GIORNO | N35: DOMENICA 18 | O35: ORA | P35: 9.30
A36: CAMPO | B36: CAMPO SPORTIVO BONAPARTE - CIVITANOVA | E36: CAMPO | F36: COMUNALE VIA CRIVELLI - CIVITANOVA | I36: CAMPO | J36: ENAOLI - CORRIDONIA | M36: CAMPO | N36: VILLA SAN FILIPPO - MONTE SAN GIUSTO
A37: =A11 -> MONTECOSARO | E37: SANTA MARIA APPARENTE | I37: =A20 -> UNITED CIVITANOVA | M37: =A16 -> SANGIUSTESE VP
A38: =A8 -> CIVITANOVESE A | E38: =A13 -> POL. TRODICA | I38: SAN CLAUDIO | M38: =A18 -> UNION PICENA
A39: =A15 -> SALESIANA VIGOR | E39: =A12 -> SAN MARCO PETRIOLO | I39: =A7 -> CALCIO CORRIDONIA | M39: =A10 -> MOGLIANESE
E40: =A9 -> CIVITANOVESE B | I40: =A6 -> ADRIATICA PORTORECANATI | M40: =A14 -> PONTE SAN GIUSTO ACADEMY
A43: ='2018'!$A$33 -> GIORNATA 3 del 25/10/2026
A44: RAGGRUPPAMENTO 1 | E44: RAGGRUPPAMENTO 2 | I44: RAGGRUPPAMENTO 3 | M44: RAGGRUPPAMENTO 4
A45: GIORNO | B45: DOMENICA 25 | C45: ORA | D45: 15.00 | E45: GIORNO | F45: DOMENICA 25 | G45: ORA | H45: 9.30 | I45: GIORNO | J45: DOMENICA 25 | K45: ORA | L45: 9.30 | M45: GIORNO | N45: DOMENICA 25 | O45: ORA | P45: 10.30
A46: CAMPO | B46: SAN LORENZO - MONTECOSARO ALTO | E46: CAMPO | F46: VILLA SAN FILIPPO - MONTE SAN GIUSTO | I46: CAMPO | J46: COMUNALE CONTIGIANI - CIVITANOVA | M46: CAMPO | N46: POLISPORTIVO - CIVITANOVA
A47: =A6 -> ADRIATICA PORTORECANATI | E47: =A12 -> SAN MARCO PETRIOLO | I47: =A7 -> CALCIO CORRIDONIA | M47: SALESIANA VIGOR
A48: =A11 -> MONTECOSARO | E48: =A13 -> POL. TRODICA | I48: =A20 -> UNITED CIVITANOVA | M48: =A9 -> CIVITANOVESE B
A49: SANTA MARIA APPARENTE | E49: PONTE SAN GIUSTO ACADEMY | I49: =A19 -> SAN CLAUDIO | M49: =A18 -> UNION PICENA
E50: SANGIUSTESE VP | I50: MOGLIANESE | M50: =A8 -> CIVITANOVESE A
A53: ='2018'!$A$43 -> GIORNATA 4 del 08/11/2026
A54: RAGGRUPPAMENTO 1 | E54: RAGGRUPPAMENTO 2 | I54: RAGGRUPPAMENTO 3 | M54: RAGGRUPPAMENTO 4
A55: GIORNO | B55: DOMENICA 8 | C55: ORA | D55: 10.30 | E55: GIORNO | F55: DOMENICA 8 | G55: ORA | H55: 15.00 | I55: GIORNO | J55: DOMENICA 8 | K55: ORA | L55: 16.00 | M55: GIORNO | N55: DOMENICA 8 | O55: ORA | P55: 10.00
A56: CAMPO | B56: POLISPORTIVO - CIVITANOVA | E56: CAMPO | F56: DUE TORRI - SAN CLAUDIO | I56: CAMPO | J56: STADIO MONALDI - PORTO RECANATI | M56: CAMPO | N56: COMUNALE VIA CRIVELLI - CIVITANOVA
A57: SAN CLAUDIO | E57: =A7 -> CALCIO CORRIDONIA | I57: =A12 -> SAN MARCO PETRIOLO | M57: SANTA MARIA APPARENTE
A58: =A14 -> PONTE SAN GIUSTO ACADEMY | E58: =A9 -> CIVITANOVESE B | I58: =A6 -> ADRIATICA PORTORECANATI | M58: =A20 -> UNITED CIVITANOVA
A59: =A8 -> CIVITANOVESE A | E59: =A19 -> SAN CLAUDIO | I59: UNION PICENA | M59: =A15 -> SALESIANA VIGOR
A60: SANGIUSTESE VP | E60: =A10 -> MOGLIANESE | M60: =A11 -> MONTECOSARO
A63: ='2018'!$A$53 -> GIORNATA 5 del 15/11/2026
A64: RAGGRUPPAMENTO 1 | E64: RAGGRUPPAMENTO 2 | I64: RAGGRUPPAMENTO 3 | M64: RAGGRUPPAMENTO 4
A65: GIORNO | B65: DOMENICA 15 | C65: ORA | D65: 14.30 | E65: GIORNO | F65: DOMENICA 15 | G65: ORA | H65: 11.00 | I65: GIORNO | J65: DOMENICA 15 | K65: ORA | L65: 10.30 | M65: GIORNO | N65: DOMENICA 15 | O65: ORA | P65: 15.30
A66: CAMPO | B66: COMUNALE ORSELLI - POTENZA PICENA | E66: CAMPO | F66: STADIO MONALDI - PORTO RECANATI | I66: CAMPO | J66: COMUNALE BORGO PINTURA - MORROVALLE | M66: CAMPO | N66: FERRETTI - MOGLIANO
A67: =A19 -> SAN CLAUDIO | E67: =A6 -> ADRIATICA PORTORECANATI | I67: =A13 -> POL. TRODICA | M67: SANGIUSTESE VP
A68: =A15 -> SALESIANA VIGOR | E68: =A9 -> CIVITANOVESE B | I68: =A17 -> SANTA MARIA APPARENTE | M68: PONTE SAN GIUSTO ACADEMY
A69: UNION PICENA | E69: =A8 -> CIVITANOVESE A | I69: =A12 -> SAN MARCO PETRIOLO | M69: =A11 -> MONTECOSARO
E70: CALCIO CORRIDONIA | I70: =A20 -> UNITED CIVITANOVA | M70: =A10 -> MOGLIANESE
A73: ='2018'!$A$63 -> GIORNATA 6 del 22/11/2026
A74: RAGGRUPPAMENTO 1 | E74: RAGGRUPPAMENTO 2 | I74: RAGGRUPPAMENTO 3 | M74: RAGGRUPPAMENTO 4
A75: GIORNO | B75: DOMENICA 22 | C75: ORA | D75: 9.30 | E75: GIORNO | F75: DOMENICA 22 | G75: ORA | H75: 10.30 | I75: GIORNO | J75: DOMENICA 22 | K75: ORA | L75: 11.00 | M75: GIORNO | N75: DOMENICA 22 | O75: ORA | P75: 15.00
A76: CAMPO | B76: VILLA SAN FILIPPO - MONTE SAN GIUSTO | E76: CAMPO | F76: POLISPORTIVO - CIVITANOVA | I76: CAMPO | J76: ENAOLI - CORRIDONIA | M76: CAMPO | N76: DUE TORRI - SAN CLAUDIO
A77: =A13 -> POL. TRODICA | E77: =A9 -> CIVITANOVESE B | I77: =A7 -> CALCIO CORRIDONIA | M77: =A10 -> MOGLIANESE
A78: =A18 -> UNION PICENA | E78: =A12 -> SAN MARCO PETRIOLO | I78: =A15 -> SALESIANA VIGOR | M78: =A19 -> SAN CLAUDIO
A79: PONTE SAN GIUSTO ACADEMY | E79: MONTECOSARO | I79: =A20 -> UNITED CIVITANOVA | M79: =A17 -> SANTA MARIA APPARENTE
A80: =A16 -> SANGIUSTESE VP | E80: =A6 -> ADRIATICA PORTORECANATI | I80: CIVITANOVESE A
A83: ='2018'!$A$73 -> GIORNATA 7 del 29/11/2026
A84: RAGGRUPPAMENTO 1 | E84: RAGGRUPPAMENTO 2 | I84: RAGGRUPPAMENTO 3 | M84: RAGGRUPPAMENTO 4
A85: GIORNO | B85: DOMENICA 29 | C85: ORA | D85: 16.00 | E85: GIORNO | F85: DOMENICA 29 | G85: ORA | H85: 15.30 | I85: GIORNO | J85: DOMENICA 29 | K85: ORA | L85: 15.00 | M85: GIORNO | N85: DOMENICA 29 | O85: ORA | P85: 9.30
A86: CAMPO | B86: STADIO MONALDI - PORTO RECANATI | E86: CAMPO | F86: FERRETTI - MOGLIANO | I86: CAMPO | J86: CAMPO SPORTIVO BONAPARTE - CIVITANOVA | M86: CAMPO | N86: VILLA SAN FILIPPO - MONTE SAN GIUSTO
A87: =A6 -> ADRIATICA PORTORECANATI | E87: =A7 -> CALCIO CORRIDONIA | I87: =A9 -> CIVITANOVESE B | M87: =A11 -> MONTECOSARO
A88: =A19 -> SAN CLAUDIO | E88: =A17 -> SANTA MARIA APPARENTE | I88: =A12 -> SAN MARCO PETRIOLO | M88: PONTE SAN GIUSTO ACADEMY
A89: CIVITANOVESE A | E89: =A10 -> MOGLIANESE | I89: =A13 -> POL. TRODICA | M89: =A16 -> SANGIUSTESE VP
A90: UNITED CIVITANOVA | I90: SALESIANA VIGOR | M90: =A18 -> UNION PICENA
A93: ='2018'!$A$83 -> GIORNATA 8 del 13/12/2026
A94: RAGGRUPPAMENTO 1 | E94: RAGGRUPPAMENTO 2 | I94: RAGGRUPPAMENTO 3 | M94: RAGGRUPPAMENTO 4
A95: GIORNO | B95: DOMENICA 13 | C95: ORA | D95: 10.30 | E95: GIORNO | F95: DOMENICA 13 | G95: ORA | H95: 14.30 | I95: GIORNO | J95: DOMENICA 13 | K95: ORA | L95: 9.30 | M95: GIORNO | N95: DOMENICA 13 | O95: ORA | P95: 11.00
A96: CAMPO | B96: COMUNALE BORGO PINTURA - MORROVALLE | E96: CAMPO | F96: COMUNALE ORSELLI - POTENZA PICENA | I96: CAMPO | J96: COMUNALE CONTIGIANI - CIVITANOVA | M96: CAMPO | N96: ENAOLI - CORRIDONIA
A97: =A19 -> SAN CLAUDIO | E97: UNION PICENA | I97: =A14 -> PONTE SAN GIUSTO ACADEMY | M97: =A7 -> CALCIO CORRIDONIA
A98: POL. TRODICA | E98: =A6 -> ADRIATICA PORTORECANATI | I98: CIVITANOVESE B | M98: MOGLIANESE
A99: =A11 -> MONTECOSARO | E99: =A12 -> SAN MARCO PETRIOLO | I99: =A16 -> SANGIUSTESE VP | M99: =A17 -> SANTA MARIA APPARENTE
E100: =A15 -> SALESIANA VIGOR | I100: =A20 -> UNITED CIVITANOVA | M100: =A8 -> CIVITANOVESE A
B102: AGGIORNAMENTI/CORREZIONI

Sheet MISTI MACRO B
A1: CALENDARIO RAGGRUPPAMENTI PRIMI CALCI MISTI - 2018/2019
A2: FASE AUTUNNALE - SS 2026/2027
A4: MACROAREA B
A6: CALDAROLA
A7: CAMERINO - CASTELRAIMONDO
A8: CINGOLANA SAN FRANCESCO
A9: CLUENTINA
A10: MATELICA
A11: NUOVA UNION
A12: ROBUR
A13: SARNANO
A14: SETTEMPEDA
... A23: GIORNATA 1 del 11/10/2026
A24: RAGGRUPPAMENTO 1 | E24: RAGGRUPPAMENTO 2 | I24: RAGGRUPPAMENTO 3 | M24: RAGGRUPPAMENTO 4
A25: GIORNO | B25: DOMENICA 11 | C25: ORA | D25: 15.30 | E25: GIORNO | F25: DOMENICA 11 | G25: ORA | H25: 15.00 | I25: GIORNO | J25: DOMENICA 11 | K25: ORA | L25: 15.00 | M25: GIORNO | N25: DOMENICA 11 | O25: ORA | P25: 10.00
A26: CAMPO | B26: SINTETICO LEONORI - SAN SEVERINO | E26: CAMPO | F26: A. GALASSE - POLLENZA | I26: CAMPO | J26: COMUNALE - CALDAROLA | M26: CAMPO | N26: STADIO SPIVACH - CINGOLI
A27: SETTEMPEDA | E27: MONTEMILONE | I27: TREIESE | M27: CINGOLANA SAN FRANCESCO
A28: =A10 -> MATELICA | E28: =A18 -> URBIS SALVIA | I28: NUOVA UNION | M28: =A9 -> CLUENTINA
A29: =A19 -> VR MACERATA | E29: =A12 -> ROBUR | I29: =A6 -> CALDAROLA | M29: =A16 -> TOLENTINO
A30: =A13 -> SARNANO | M30: =A7 -> CAMERINO - CASTELRAIMONDO
A33: ='2018'!$A$23 -> GIORNATA 2 del 18/10/2026
A34: RAGGRUPPAMENTO 1 | E34: RAGGRUPPAMENTO 2 | I34: RAGGRUPPAMENTO 3 | M34: RAGGRUPPAMENTO 4
A35: GIORNO | B35: DOMENICA 18 | C35: ORA | D35: 10.00 | E35: GIORNO | F35: DOMENICA 18 | G35: ORA | H35: 15.30 | I35: GIORNO | J35: DOMENICA 18 | K35: ORA | L35: 10.30 | M35: GIORNO | N35: DOMENICA 18 | O35: ORA | P35: 15.00
A36: CAMPO | B36: DON GUIDO BIBINI - CHIESANUOVA | E36: CAMPO | F36: CIOMMEI - TOLENTINO | I36: CAMPO | J36: TONINO SERI COLLEVARIO - MACERATA | M36: CAMPO | N36: STADIO TOMBOLINI - URBISAGLIA
A37: =A11 -> NUOVA UNION | E37: =A19 -> VR MACERATA | I37: CLUENTINA | M37: =A15 -> MONTEMILONE
A38: =A8 -> CINGOLANA SAN FRANCESCO | E38: =A16 -> TOLENTINO | I38: =A17 -> TREIESE | M38: =A6 -> CALDAROLA
A39: =A13 -> SARNANO | E39: =A10 -> MATELICA | I39: ROBUR | M39: URBIS SALVIA
E40: =A7 -> CAMERINO - CASTELRAIMONDO | M40: =A14 -> SETTEMPEDA
A43: ='2018'!$A$33 -> GIORNATA 3 del 25/10/2026
A44: RAGGRUPPAMENTO 1 | E44: RAGGRUPPAMENTO 2 | I44: RAGGRUPPAMENTO 3 | M44: RAGGRUPPAMENTO 4
A45: GIORNO | B45: DOMENICA 25 | C45: ORA | D45: 10.00 | E45: GIORNO | F45: DOMENICA 25 | G45: ORA | H45: 15.30 | I45: GIORNO | J45: DOMENICA 25 | K45: ORA | L45: 10.30 | M45: GIORNO | N45: DOMENICA 25 | O45: ORA | P45: 9.30
A46: CAMPO | B46: DON GUIDO BIBINI - CHIESANUOVA | E46: CAMPO | F46: SAN GIULIANO - RIONE PACE - MACERATA | I46: CAMPO | J46: CAMPO D. DANIELE - SALESIANI - MACERATA | M46: CAMPO | N46: STADIO MAURELLI - SARNANO
A47: =A6 -> CALDAROLA | E47: VR MACERATA | I47: =A12 -> ROBUR | M47: =A13 -> SARNANO
A48: =A11 -> NUOVA UNION | E48: =A16 -> TOLENTINO | I48: CAMERINO - CASTELRAIMONDO | M48: =A9 -> CLUENTINA
A49: =A14 -> SETTEMPEDA | E49: =A15 -> MONTEMILONE | I49: CINGOLANA SAN FRANCESCO | M49: =A18 -> URBIS SALVIA
A50: =A17 -> TREIESE | E50: =A10 -> MATELICA
A53: ='2018'!$A$43 -> GIORNATA 4 del 08/11/2026
A54: RAGGRUPPAMENTO 1 | E54: RAGGRUPPAMENTO 2 | I54: RAGGRUPPAMENTO 3 | M54: RAGGRUPPAMENTO 4
A55: GIORNO | B55: DOMENICA 8 | C55: ORA | D55: 15.30 | E55: GIORNO | F55: DOMENICA 8 | G55: ORA | H55: 15.00 | I55: GIORNO | J55: DOMENICA 8 | K55: ORA | L55: 10.30 | M55: GIORNO | N55: DOMENICA 8 | O55: ORA | P55: 15.00
A56: CAMPO | B56: SITETICO LEONORI - SAN SEVERINO | E56: CAMPO | F56: A. GALASSE - POLLENZA | I56: CAMPO | J56: TONINO SERI COLLEVARIO - MACERATA | M56: CAMPO | N56: STADIO TOMBOLINI - URBISAGLIA
A57: =A17 -> TREIESE | E57: =A7 -> CAMERINO - CASTELRAIMONDO | I57: CLUENTINA | M57: URBIS SALVIA
A58: =A14 -> SETTEMPEDA | E58: MONTEMILONE | I58: =A6 -> CALDAROLA | M58: =A12 -> ROBUR
A59: =A8 -> CINGOLANA SAN FRANCESCO | E59: =A10 -> MATELICA | I59: =A16 -> TOLENTINO | M59: =A19 -> VR MACERATA
A60: SARNANO | M60: =A11 -> NUOVA UNION
A63: ='2018'!$A$53 -> GIORNATA 5 del 15/11/2026
A64: RAGGRUPPAMENTO 1 | E64: RAGGRUPPAMENTO 2 | I64: RAGGRUPPAMENTO 3 | M64: RAGGRUPPAMENTO 4
A65: GIORNO | B65: DOMENICA 15 | C65: ORA | D65: 15.30 | E65: GIORNO | F65: DOMENICA 15 | G65: ORA | H65: 10.30 | I65: GIORNO | J65: DOMENICA 15 | K65: ORA | L65: 9.30 | M65: GIORNO | N65: DOMENICA 15 | O65: ORA | P65: 15.30
A66: CAMPO | B66: CIOMMEI - TOLENTINO | E66: CAMPO | F66: CAMPO D. DANIELE - SALESIANI - MACERATA | I66: CAMPO | J66: STADIO MAURELLI - SARNANO | M66: CAMPO | N66: GIOVANNI PAOLO II - MATELICA
A67: =A19 -> VR MACERATA | E67: ROBUR | I67: =A13 -> SARNANO | M67: =A17 -> TREIESE
A68: URBIS SALVIA | E68: =A9 -> CLUENTINA | I68: MONTEMILONE | M68: =A7 -> CAMERINO - CASTELRAIMONDO
A69: =A16 -> TOLENTINO | E69: SETTEMPEDA | I69: CALDAROLA | M69: =A11 -> NUOVA UNION
A70: CINGOLANA SAN FRANCESCO | M70: =A10 -> MATELICA
A73: ='2018'!$A$63 -> GIORNATA 6 del 22/11/2026
A74: RAGGRUPPAMENTO 1 | E74: RAGGRUPPAMENTO 2 | I74: RAGGRUPPAMENTO 3 | M74: RAGGRUPPAMENTO 4
A75: GIORNO | B75: DOMENICA 22 | C75: ORA | D75: 15.00 | E75: GIORNO | F75: DOMENICA 22 | G75: ORA | H75: 10.30 | I75: GIORNO | J75: DOMENICA 22 | K75: ORA | L75: 15.00 | M75: GIORNO | N75: DOMENICA 22 | O75: ORA | P75: 15.00
A76: CAMPO | B76: STADIO TOMBOLINI - URBISAGLIA | E76: CAMPO | F76: TONINO SERI COLLEVARIO - MACERATA | I76: CAMPO | J76: A. GALASSE - POLLENZA | M76: CAMPO | N76: LE CALVIE - CAMERINO
A77: =A13 -> SARNANO | E77: =A9 -> CLUENTINA | I77: SETTEMPEDA | M77: =A7 -> CAMERINO - CASTELRAIMONDO
A78: =A18 -> URBIS SALVIA | E78: =A12 -> ROBUR | I78: =A15 -> MONTEMILONE | M78: MATELICA
A79: =A11 -> NUOVA UNION | E79: =A8 -> CINGOLANA SAN FRANCESCO | I79: =A19 -> VR MACERATA | M79: CALDAROLA
A80: =A16 -> TOLENTINO | E80: TREIESE
A83: ='2018'!$A$73 -> GIORNATA 7 del 29/11/2026
A84: RAGGRUPPAMENTO 1 | E84: RAGGRUPPAMENTO 2 | I84: RAGGRUPPAMENTO 3 | M84: RAGGRUPPAMENTO 4
A85: GIORNO | B85: DOMENICA 29 | C85: ORA | D85: 15.30 | E85: GIORNO | F85: DOMENICA 29 | G85: ORA | H85: 10.00 | I85: GIORNO | J85: DOMENICA 29 | K85: ORA | L85: 15.30 | M85: GIORNO | N85: DOMENICA 29 | O85: ORA | P85: 10.00
A86: CAMPO | B86: SAN GIULIANO - RIONE PACE - MACERATA | E86: CAMPO | F86: CAMPO COMPAGNONI - PASSO DI TREIA | I86: CAMPO | J86: GIOVANNI PAOLO II - MATELICA | M86: CAMPO | N86: STADIO SPIVACH - CINGOLI
A87: MONTEMILONE | E87: =A7 -> CAMERINO - CASTELRAIMONDO | I87: =A18 -> URBIS SALVIA | M87: CINGOLANA SAN FRANCESCO
A88: =A19 -> VR MACERATA | E88: =A17 -> TREIESE | I88: MATELICA | M88: =A14 -> SETTEMPEDA
A89: NUOVA UNION | E89: ROBUR | I89: =A13 -> SARNANO | M89: =A16 -> TOLENTINO
I90: CALDAROLA | M90: =A9 -> CLUENTINA
A93: ='2018'!$A$83 -> GIORNATA 8 del 13/12/2026
A94: RAGGRUPPAMENTO 1 | E94: RAGGRUPPAMENTO 2 | I94: RAGGRUPPAMENTO 3 | M94: RAGGRUPPAMENTO 4
A95: GIORNO | B95: DOMENICA 13 | C95: ORA | D95: 15.30 | E95: GIORNO | F95: DOMENICA 13 | G95: ORA | H95: 15.00 | I95: GIORNO | J95: DOMENICA 13 | K95: ORA | L95: 10.00 | M95: GIORNO | N95: DOMENICA 13 | O95: ORA | P95: 15.30
A96: CAMPO | B96: GIOVANNI PAOLO II - MATELICA | E96: CAMPO | F96: COMUNALE - CALDAROLA | I96: CAMPO | J96: STADIO SPIVACH - CINGOLI | M96: CAMPO | N96: SAN GIULIANO - RIONE PACE - MACERATA
A97: CAMERINO - CASTELRAIMONDO | E97: SARNANO | I97: =A11 -> NUOVA UNION | M97: VR MACERATA
A98: =A10 -> MATELICA | E98: =A6 -> CALDAROLA | I98: =A18 -> URBIS SALVIA | M98: CLUENTINA
A99: =A14 -> SETTEMPEDA | E99: =A12 -> ROBUR | I99: TREIESE | M99: TOLENTINO
A100: =A15 -> MONTEMILONE | I100: =A8 -> CINGOLANA SAN FRANCESCO
B102: AGGIORNAMENTI/CORREZIONI
