Workbook

Sheet 2018
A1: CALENDARIO RAGGRUPPAMENTI PRIMI CALCI 2° ANNO - 2018
A2: FASE AUTUNNALE - SS 2026/2027
A4: GIRONE UNICO
A6: ACADEMY CIVITANOVESE
A7: ADRIATICA PORTORECANATI
A8: CAMERINO CASTELRAIMONDO
A9: MACERATESE 1992
A10: RECANATESE
A11: SALESIANA VIGOR
A13: GIORNATA 1 del 11/10/2026
A14: RAGGRUPPAMENTO 1 | E14: RAGGRUPPAMENTO 2
A15: GIORNO | B15: DOMENICA 11 | C15: ORA | D15: 11.00 | E15: GIORNO | F15: DOMENICA 11 | G15: ORA | H15: 9.00
A16: CAMPO | B16: CIVITANOVA ALTA - MORNANO | E16: CAMPO | F16: CAMPO SPORTIVO GIRONELLA - VILLA POTENZA
A17: =A11 -> SALESIANA VIGOR | E17: =A8 -> CAMERINO CASTELRAIMONDO
A18: =A6 -> ACADEMY CIVITANOVESE | E18: =A7 -> ADRIATICA PORTORECANATI
A19: RECANATESE | E19: MACERATESE
A23: GIORNATA 2 del 18/10/2026
A24: RAGGRUPPAMENTO 1 | E24: RAGGRUPPAMENTO 2
A25: GIORNO | B25: DOMENICA 18 | C25: ORA | D25: 18.00 | E25: GIORNO | F25: DOMENICA 18 | G25: ORA | H25: 15.00
A26: CAMPO | B26: STADIO TUBALDI - RECANATI | E26: CAMPO | F26: SUPPLEMENTARE MONALDI -PORTO RECANATI
A27: =A8 -> CAMERINO CASTELRAIMONDO | E27: =A6 -> ACADEMY CIVITANOVESE
A28: =A9 -> MACERATESE 1992 | E28: =A7 -> ADRIATICA PORTORECANATI
A29: =A10 -> RECANATESE | E29: =A11 -> SALESIANA VIGOR
A33: GIORNATA 3 del 25/10/2026
A34: RAGGRUPPAMENTO 1 | E34: RAGGRUPPAMENTO 2
A35: GIORNO | B35: DOMENICA 25 | C35: ORA | D35: 9.00 | E35: GIORNO | F35: DOMENICA 25 | G35: ORA | H35: 15.00
A36: CAMPO | B36: CAMPO SPORTIVO GIRONELLA - VILLA POTENZA | E36: CAMPO | F36: COMUNALE LE CALVIE - CAMERINO
A37: ADRIATICA PORTORECANATI | E37: ACADEMY CIVITANOVESE
A38: =A9 -> MACERATESE 1992 | E38: =A8 -> CAMERINO CASTELRAIMONDO
A39: =A11 -> SALESIANA VIGOR | E39: =A10 -> RECANATESE
A43: GIORNATA 4 del 08/11/2026
A44: RAGGRUPPAMENTO 1 | E44: RAGGRUPPAMENTO 2
A45: GIORNO | B45: DOMENICA 8 | C45: ORA | D45: 11.00 | E45: GIORNO | F45: DOMENICA 8 | G45: ORA | H45: 15.00
A46: CAMPO | B46: CIVITANOVA ALTA - MORNANO | E46: CAMPO | F46: COMUNALE BONAPARTE - CIVITANOVA
A47: RECANATESE | E47: SALESIANA VIGOR
A48: =A6 -> ACADEMY CIVITANOVESE | E48: =A7 -> ADRIATICA PORTORECANATI
A49: MACERATESE 1922 | E49: =A8 -> CAMERINO CASTELRAIMONDO
A53: GIORNATA 5 del 15/11/2026
A54: RAGGRUPPAMENTO 1 | E54: RAGGRUPPAMENTO 2
A55: GIORNO | B55: SABATO 14 | C55: ORA | D55: 17.30 | E55: GIORNO | F55: DOMENICA 15 | G55: ORA | H55: 9.00
...

Sheet MISTI MACRO A
A1: CALENDARIO RAGGRUPPAMENTI PRIMI CALCI MISTI - 2018/2019
A2: FASE AUTUNNALE - SS 2026/2027
A4: MACROAREA A
A6: ADRIATICA PORTORECANATI
A7: CALCIO CORRIDONIA
A8: CIVITANOVESE A
A9: CIVITANOVESE B
A10: MOGLIANESE
A11: MONTECOSARO
A12: SAN MARCO PETRIOLO
A13: POL. TRODICA
A14: PONTE SAN GIUSTO ACADEMY
... A23: GIORNATA 1 del 11/10/2026
A24: RAGGRUPPAMENTO 1 | E24: RAGGRUPPAMENTO 2 | I24: RAGGRUPPAMENTO 3 | M24: RAGGRUPPAMENTO 4
A25: GIORNO | B25: DOMENICA 11 | C25: ORA | D25: 15.00 | E25: GIORNO | F25: DOMENICA 11 | G25: ORA | H25: 15.00 | I25: GIORNO | J25: DOMENICA 11 | K25: ORA | L25: 10.30 | M25: GIORNO | N25: DOMENICA 11 | O25: ORA | P25: 10.30
A26: CAMPO | B26: DUE TORRI - SAN CLAUDIO | E26: CAMPO | F26: SAN LORENZO - MONTECOSARO ALTO | I26: CAMPO | J26: POLISPORTIVO - CIVITANOVA | M26: CAMPO | N26: COMUNALE BORGO PINTURA - MORROVALLE
A27: =A17 -> SANTA MARIA APPARENTE | E27: =A11 -> MONTECOSARO | I27: =A8 -> CIVITANOVESE A | M27: =A20 -> UNITED CIVITANOVA
A28: SAN CLAUDIO | E28: =A18 -> UNION PICENA | I28: =A15 -> SALESIANA VIGOR | M28: =A9 -> CIVITANOVESE B
A29: =A10 -> MOGLIANESE | E29: ADRIATICA PORTORECANATI | I29: =A16 -> SANGIUSTESE VP | M29: POL. TRODICA
E30: =A12 -> SAN MARCO PETRIOLO | I30: PONTE SAN GIUSTO ACADEMY | M30: =A7 -> CALCIO CORRIDONIA
A33: ='2018'!$A$23 -> GIORNATA 2 del 18/10/2026
A34: RAGGRUPPAMENTO 1 | E34: RAGGRUPPAMENTO 2 | I34: RAGGRUPPAMENTO 3 | M34: RAGGRUPPAMENTO 4
A35: GIORNO | B35: DOMENICA 18 | C35: ORA | D35: 15.00 | E35: GIORNO | F35: DOMENICA 18 | G35: ORA | H35: 10.00 | I35: GIORNO | J35: DOMENICA 18 | K35: ORA | L35: 11.00 | M35: GIORNO | N35: DOMENICA 18 | O35: ORA | P35: 9.30
A36: CAMPO | B36: CAMPO SPORTIVO BONAPARTE - CIVITANOVA | E36: CAMPO | F36: COMUNALE VIA CRIVELLI - CIVITANOVA | I36: CAMPO | J36: ENAOLI - CORRIDONIA | M36: CAMPO | N36: VILLA SAN FILIPPO - MONTE SAN GIUSTO
A37: =A11 -> MONTECOSARO | E37: SANTA MARIA APPARENTE | I37: =A20 -> UNITED CIVITANOVA | M37: =A16 -> SANGIUSTESE VP
A38: =A8 -> CIVITANOVESE A | E38: =A13 -> POL. TRODICA | I38: SAN CLAUDIO | M38: =A18 -> UNION PICENA
A39: =A15 -> SALESIANA VIGOR | E39: =A12 -> SAN MARCO PETRIOLO | I39: =A7 -> CALCIO CORRIDONIA | M39: =A10 -> MOGLIANESE
E40: =A9 -> CIVITANOVESE B | I40: =A6 -> ADRIATICA PORTORECANATI | M40: =A14 -> PONTE SAN GIUSTO ACADEMY
A43: ='2018'!$A$33 -> GIORNATA 3 del 25/10/2026
A44: RAGGRUPPAMENTO 1 | E44: RAGGRUPPAMENTO 2 | I44: RAGGRUPPAMENTO 3 | M44: RAGGRUPPAMENTO 4
A45: GIORNO | B45: DOMENICA 25 | C45: ORA | D45: 15.00 | E45: GIORNO | F45: DOMENICA 25 | G45: ORA | H45: 9.30 | I45: GIORNO | J45: DOMENICA 25 | K45: ORA | L45: 9.30 | M45: GIORNO | N45: DOMENICA 25 | O45: ORA | P45: 10.30
A46: CAMPO | B46: SAN LORENZO - MONTECOSARO ALTO | E46: CAMPO | F46: VILLA SAN FILIPPO - MONTE SAN GIUSTO | I46: CAMPO | J46: COMUNALE CONTIGIANI - CIVITANOVA | M46: CAMPO | N46: POLISPORTIVO - CIVITANOVA
A47: =A6 -> ADRIATICA PORTORECANATI | E47: =A12 -> SAN MARCO PETRIOLO | I47: =A7 -> CALCIO CORRIDONIA | M47: SALESIANA VIGOR
A48: =A11 -> MONTECOSARO | E48: =A13 -> POL. TRODICA | I48: =A20 -> UNITED CIVITANOVA | M48: =A9 -> CIVITANOVESE B
A49: SANTA MARIA APPARENTE | E49: PONTE SAN GIUSTO ACADEMY | I49: =A19 -> SAN CLAUDIO | M49: =A18 -> UNION PICENA
E50: SANGIUSTESE VP | I50: MOGLIANESE | M50: =A8 -> CIVITANOVESE A
A53: ='2018'!$A$43 -> GIORNATA 4 del 08/11/2026
A54: RAGGRUPPAMENTO 1 | E54: RAGGRUPPAMENTO 2 | I54: RAGGRUPPAMENTO 3 | M54: RAGGRUPPAMENTO 4
A55: GIORNO | B55: DOMENICA 8 | C55: ORA | D55: 10.30 | E55: GIORNO | F55: DOMENICA 8 | G55: ORA | H55: 15.00 | I55: GIORNO | J55: DOMENICA 8 | K55: ORA | L55: 16.00 | M55: GIORNO | N55: DOMENICA 8 | O55: ORA | P55: 10.00
A56: CAMPO | B56: POLISPORTIVO - CIVITANOVA | E56: CAMPO | F56: DUE TORRI - SAN CLAUDIO | I56: CAMPO | J56: STADIO MONALDI - PORTO RECANATI | M56: CAMPO | N56: COMUNALE VIA CRIVELLI - CIVITANOVA
...

Sheet MISTI MACRO B
A1: CALENDARIO RAGGRUPPAMENTI PRIMI CALCI MISTI - 2018/2019
A2: FASE AUTUNNALE - SS 2026/2027
A4: MACROAREA B
A6: CALDAROLA
A7: CAMERINO - CASTELRAIMONDO
A8: CINGOLANA SAN FRANCESCO
A9: CLUENTINA
A10: MATELICA
A11: NUOVA UNION
A12: ROBUR
A13: SARNANO
A14: SETTEMPEDA
... A23: GIORNATA 1 del 11/10/2026
A24: RAGGRUPPAMENTO 1 | E24: RAGGRUPPAMENTO 2 | I24: RAGGRUPPAMENTO 3 | M24: RAGGRUPPAMENTO 4
A25: GIORNO | B25: DOMENICA 11 | C25: ORA | D25: 15.30 | E25: GIORNO | F25: DOMENICA 11 | G25: ORA | H25: 15.00 | I25: GIORNO | J25: DOMENICA 11 | K25: ORA | L25: 15.00 | M25: GIORNO | N25: DOMENICA 11 | O25: ORA | P25: 10.00
A26: CAMPO | B26: SINTETICO LEONORI - SAN SEVERINO | E26: CAMPO | F26: A. GALASSE - POLLENZA | I26: CAMPO | J26: COMUNALE - CALDAROLA | M26: CAMPO | N26: STADIO SPIVACH - CINGOLI
A27: SETTEMPEDA | E27: MONTEMILONE | I27: TREIESE | M27: CINGOLANA SAN FRANCESCO
A28: =A10 -> MATELICA | E28: =A18 -> URBIS SALVIA | I28: NUOVA UNION | M28: =A9 -> CLUENTINA
A29: =A19 -> VR MACERATA | E29: =A12 -> ROBUR | I29: =A6 -> CALDAROLA | M29: =A16 -> TOLENTINO
A30: =A13 -> SARNANO | M30: =A7 -> CAMERINO - CASTELRAIMONDO
A33: ='2018'!$A$23 -> GIORNATA 2 del 18/10/2026
A34: RAGGRUPPAMENTO 1 | E34: RAGGRUPPAMENTO 2 | I34: RAGGRUPPAMENTO 3 | M34: RAGGRUPPAMENTO 4
A35: GIORNO | B35: DOMENICA 18 | C35: ORA | D35: 10.00 | E35: GIORNO | F35: DOMENICA 18 | G35: ORA | H35: 15.30 | I35: GIORNO | J35: DOMENICA 18 | K35: ORA | L35: 10.30 | M35: GIORNO | N35: DOMENICA 18 | O35: ORA | P35: 15.00
A36: CAMPO | B36: DON GUIDO BIBINI - CHIESANUOVA | E36: CAMPO | F36: CIOMMEI - TOLENTINO | I36: CAMPO | J36: TONINO SERI COLLEVARIO - MACERATA | M36: CAMPO | N36: STADIO TOMBOLINI - URBISAGLIA
A37: =A11 -> NUOVA UNION | E37: =A19 -> VR MACERATA | I37: CLUENTINA | M37: =A15 -> MONTEMILONE
A38: =A8 -> CINGOLANA SAN FRANCESCO | E38: =A16 -> TOLENTINO | I38: =A17 -> TREIESE | M38: =A6 -> CALDAROLA
A39: =A13 -> SARNANO | E39: =A10 -> MATELICA | I39: ROBUR | M39: URBIS SALVIA
E40: =A7 -> CAMERINO - CASTELRAIMONDO | M40: =A14 -> SETTEMPEDA
A43: ='2018'!$A$33 -> GIORNATA 3 del 25/10/2026
A44: RAGGRUPPAMENTO 1 | E44: RAGGRUPPAMENTO 2 | I44: RAGGRUPPAMENTO 3 | M44: RAGGRUPPAMENTO 4
A45: GIORNO | B45: DOMENICA 25 | C45: ORA | D45: 10.00 | E45: GIORNO | F45: DOMENICA 25 | G45: ORA | H45: 15.30 | I45: GIORNO | J45: DOMENICA 25 | K45: ORA | L45: 10.30 | M45: GIORNO | N45: DOMENICA 25 | O45: ORA | P45: 9.30
A46: CAMPO | B46: DON GUIDO BIBINI - CHIESANUOVA | E46: CAMPO | F46: SAN GIULIANO - RIONE PACE - MACERATA | I46: CAMPO | J46: CAMPO D. DANIELE - SALESIANI - MACERATA | M46: CAMPO | N46: STADIO MAURELLI - SARNANO
A47: =A6 -> CALDAROLA | E47: VR MACERATA | I47: =A12 -> ROBUR | M47: =A13 -> SARNANO
A48: =A11 -> NUOVA UNION | E48: =A16 -> TOLENTINO | I48: CAMERINO - CASTELRAIMONDO | M48: =A9 -> CLUENTINA
A49: =A14 -> SETTEMPEDA | E49: =A15 -> MONTEMILONE | I49: CINGOLANA SAN FRANCESCO | M49: =A18 -> URBIS SALVIA
A50: =A17 -> TREIESE | E50: =A10 -> MATELICA
A53: ='2018'!$A$43 -> GIORNATA 4 del 08/11/2026
A54: RAGGRUPPAMENTO 1 | E54: RAGGRUPPAMENTO 2 | I54: RAGGRUPPAMENTO 3 | M54: RAGGRUPPAMENTO 4
A55: GIORNO | B55: DOMENICA 8 | C55: ORA | D55: 15.30 | E55: GIORNO | F55: DOMENICA 8 | G55: ORA | H55: 15.00 | I55: GIORNO | J55: DOMENICA 8 | K55: ORA | L55: 10.30 | M55: GIORNO | N55: DOMENICA 8 | O55: ORA | P55: 15.00
A56: CAMPO | B56: SITETICO LEONORI - SAN SEVERINO | E56: CAMPO | F56: A. GALASSE - POLLENZA | I56: CAMPO | J56: TONINO SERI COLLEVARIO - MACERATA | M56: CAMPO | N56: STADIO TOMBOLINI - URBISAGLIA
...
